BEGIN:VCALENDAR
VERSION:2.0
PRODID:-//Squarespace Inc/Squarespace 6//v6//EN
BEGIN:VEVENT
UID:5fa9ece834227d39e146fc9d@squarespace.com
DTSTAMP:20201110T070051Z
DTSTART:20210228T060000Z
DTEND:20210228T090000Z
SUMMARY:Sunday Live Music February 28th
GEO:-26.420666;153.088045
LOCATION:FISH Parkridge Noosa\, 75 Resort Drive\, Noosa Heads\, QLD\, 4567\
 , Australia
END:VEVENT
END:VCALENDAR
