BEGIN:VCALENDAR
VERSION:2.0
PRODID:-//Squarespace Inc/Squarespace 6//v6//EN
BEGIN:VEVENT
UID:5fa9f0440feb65138991b51c@squarespace.com
DTSTAMP:20201110T070325Z
DTSTART:20210425T060000Z
DTEND:20210425T090000Z
SUMMARY:Sunday Live Music April 25th
GEO:-26.420666;153.088045
LOCATION:FISH Parkridge Noosa\, 75 Resort Drive\, Noosa Heads\, QLD\, 4567\
 , Australia
END:VEVENT
END:VCALENDAR
