BEGIN:VCALENDAR
VERSION:2.0
PRODID:-//Squarespace Inc/Squarespace 6//v6//EN
BEGIN:VEVENT
UID:5fa9d0dc3c84443d2d894c2d@squarespace.com
DTSTAMP:20210126T001126Z
DTSTART:20210131T060000Z
DTEND:20210131T090000Z
SUMMARY:Sunday Live Music January 31st
GEO:-26.420666;153.088045
LOCATION:FISH Parkridge Noosa\, 75 Resort Drive\, Noosa Heads\, QLD\, 4567\
 , Australia
END:VEVENT
END:VCALENDAR
