BEGIN:VCALENDAR
VERSION:2.0
PRODID:-//Squarespace Inc/Squarespace 6//v6//EN
BEGIN:VEVENT
UID:5fa9c5d309511e6a4e5ae9d3@squarespace.com
DTSTAMP:20201110T065620Z
DTSTART:20210117T060000Z
DTEND:20210117T090000Z
SUMMARY:Sunday Live Music January 17th
GEO:-26.420666;153.088045
LOCATION:FISH Parkridge Noosa\, 75 Resort Drive\, Noosa Heads\, QLD\, 4567\
 , Australia
END:VEVENT
END:VCALENDAR
