BEGIN:VCALENDAR
VERSION:2.0
PRODID:-//Squarespace Inc/Squarespace 6//v6//EN
BEGIN:VEVENT
UID:5fa9f1a6099a931d36315250@squarespace.com
DTSTAMP:20201110T065804Z
DTSTART:20210214T060000Z
DTEND:20210214T090000Z
SUMMARY:Sunday Live Music February 14th
GEO:-26.420666;153.088045
LOCATION:FISH Parkridge Noosa\, 75 Resort Drive\, Noosa Heads\, QLD\, 4567\
 , Australia
END:VEVENT
END:VCALENDAR
