BEGIN:VCALENDAR
VERSION:2.0
PRODID:-//Squarespace Inc/Squarespace 6//v6//EN
BEGIN:VEVENT
UID:5fa9f29b64a757513a34ea45@squarespace.com
DTSTAMP:20201110T070133Z
DTSTART:20210314T060000Z
DTEND:20210314T090000Z
SUMMARY:Sunday Live Music March 14th
GEO:-26.420666;153.088045
LOCATION:FISH Parkridge Noosa\, 75 Resort Drive\, Noosa Heads\, QLD\, 4567\
 , Australia
END:VEVENT
END:VCALENDAR
